BEGIN:VCALENDAR
VERSION:2.0
PRODID:-//Over The Hills Gang ATV Club - ECPv6.15.20//NONSGML v1.0//EN
CALSCALE:GREGORIAN
METHOD:PUBLISH
X-WR-CALNAME:Over The Hills Gang ATV Club
X-ORIGINAL-URL:https://overthehillsgang.org
X-WR-CALDESC:Events for Over The Hills Gang ATV Club
REFRESH-INTERVAL;VALUE=DURATION:PT1H
X-Robots-Tag:noindex
X-PUBLISHED-TTL:PT1H
BEGIN:VTIMEZONE
TZID:America/Chicago
BEGIN:DAYLIGHT
TZOFFSETFROM:-0600
TZOFFSETTO:-0500
TZNAME:CDT
DTSTART:20180311T080000
END:DAYLIGHT
BEGIN:STANDARD
TZOFFSETFROM:-0500
TZOFFSETTO:-0600
TZNAME:CST
DTSTART:20181104T070000
END:STANDARD
BEGIN:DAYLIGHT
TZOFFSETFROM:-0600
TZOFFSETTO:-0500
TZNAME:CDT
DTSTART:20190310T080000
END:DAYLIGHT
BEGIN:STANDARD
TZOFFSETFROM:-0500
TZOFFSETTO:-0600
TZNAME:CST
DTSTART:20191103T070000
END:STANDARD
BEGIN:DAYLIGHT
TZOFFSETFROM:-0600
TZOFFSETTO:-0500
TZNAME:CDT
DTSTART:20200308T080000
END:DAYLIGHT
BEGIN:STANDARD
TZOFFSETFROM:-0500
TZOFFSETTO:-0600
TZNAME:CST
DTSTART:20201101T070000
END:STANDARD
END:VTIMEZONE
BEGIN:VEVENT
DTSTART;VALUE=DATE:20191206
DTEND;VALUE=DATE:20191208
DTSTAMP:20260425T143552
CREATED:20191108T000234Z
LAST-MODIFIED:20191108T000234Z
UID:313-1575590400-1575763199@overthehillsgang.org
SUMMARY:Help Build The Bridge
DESCRIPTION:
URL:https://overthehillsgang.org/event/help-build-the-bridge-2/
CATEGORIES:Upcoming Events
END:VEVENT
BEGIN:VEVENT
DTSTART;VALUE=DATE:20191214
DTEND;VALUE=DATE:20191216
DTSTAMP:20260425T143552
CREATED:20191108T000332Z
LAST-MODIFIED:20191108T000332Z
UID:315-1576281600-1576454399@overthehillsgang.org
SUMMARY:Help Build The Bridge
DESCRIPTION:
URL:https://overthehillsgang.org/event/help-build-the-bridge-3/
CATEGORIES:Upcoming Events
END:VEVENT
END:VCALENDAR